BEGIN:VCALENDAR
VERSION:2.0
PRODID:-//Aikido in Fredericksburg - ECPv6.15.20//NONSGML v1.0//EN
CALSCALE:GREGORIAN
METHOD:PUBLISH
X-WR-CALNAME:Aikido in Fredericksburg
X-ORIGINAL-URL:https://www.aikidoinfredericksburg.org
X-WR-CALDESC:Events for Aikido in Fredericksburg
REFRESH-INTERVAL;VALUE=DURATION:PT1H
X-Robots-Tag:noindex
X-PUBLISHED-TTL:PT1H
BEGIN:VTIMEZONE
TZID:America/New_York
BEGIN:DAYLIGHT
TZOFFSETFROM:-0500
TZOFFSETTO:-0400
TZNAME:EDT
DTSTART:20250309T070000
END:DAYLIGHT
BEGIN:STANDARD
TZOFFSETFROM:-0400
TZOFFSETTO:-0500
TZNAME:EST
DTSTART:20251102T060000
END:STANDARD
BEGIN:DAYLIGHT
TZOFFSETFROM:-0500
TZOFFSETTO:-0400
TZNAME:EDT
DTSTART:20260308T070000
END:DAYLIGHT
BEGIN:STANDARD
TZOFFSETFROM:-0400
TZOFFSETTO:-0500
TZNAME:EST
DTSTART:20261101T060000
END:STANDARD
BEGIN:DAYLIGHT
TZOFFSETFROM:-0500
TZOFFSETTO:-0400
TZNAME:EDT
DTSTART:20270314T070000
END:DAYLIGHT
BEGIN:STANDARD
TZOFFSETFROM:-0400
TZOFFSETTO:-0500
TZNAME:EST
DTSTART:20271107T060000
END:STANDARD
BEGIN:DAYLIGHT
TZOFFSETFROM:-0500
TZOFFSETTO:-0400
TZNAME:EDT
DTSTART:20280312T070000
END:DAYLIGHT
BEGIN:STANDARD
TZOFFSETFROM:-0400
TZOFFSETTO:-0500
TZNAME:EST
DTSTART:20281105T060000
END:STANDARD
END:VTIMEZONE
BEGIN:VEVENT
DTSTART;TZID=America/New_York:20261113T190000
DTEND;TZID=America/New_York:20261114T170000
DTSTAMP:20260420T000258
CREATED:20250512T211154Z
LAST-MODIFIED:20260120T204957Z
UID:27315-1794596400-1794675600@www.aikidoinfredericksburg.org
SUMMARY:Brown University Fall Aikido Seminar
DESCRIPTION:Aviv Sensei will instruct Friday night and all day Saturday at the Brown/RISD Aikido Club. \n \n  \n  \n  \n  \n  \n  \n 
URL:https://www.aikidoinfredericksburg.org/event/aviv-sensei-at-brown-university-fall-seminar/
LOCATION:Brown University\, 81 Waterman St.\, Providence\, RI\, 02912
CATEGORIES:Event,Seminar
ORGANIZER;CN="Brown University Aikido Club":MAILTO:brownaikidoclub@gmail.com
END:VEVENT
BEGIN:VEVENT
DTSTART;TZID=America/New_York:20261205T090000
DTEND;TZID=America/New_York:20261205T130000
DTSTAMP:20260420T000258
CREATED:20251122T204554Z
LAST-MODIFIED:20251122T204615Z
UID:27558-1796461200-1796475600@www.aikidoinfredericksburg.org
SUMMARY:Holiday Seminar 2026
DESCRIPTION:Our annual year-end training\, blackbelt tests\, and holiday party.
URL:https://www.aikidoinfredericksburg.org/event/holiday-seminar/
LOCATION:AIKIDO IN FREDERICKSBURG\, 6155 Hickory Ridge Road\, Spotsylvania\, VA\, 22551\, United States
CATEGORIES:Event,Seminar
END:VEVENT
BEGIN:VEVENT
DTSTART;TZID=America/New_York:20270410T090000
DTEND;TZID=America/New_York:20270411T140000
DTSTAMP:20260420T000258
CREATED:20251114T125612Z
LAST-MODIFIED:20251203T031930Z
UID:27526-1807347600-1807452000@www.aikidoinfredericksburg.org
SUMMARY:Lewis DeQuiros Sensei - Tai Sai 2027 Seminar
DESCRIPTION:We are pleased that Lewis DeQuiros Sensei will instruct at the 2027 Tai Sai Seminar at Aikido in Fredericksburg. \n \n  \n  \n  \n  \n  \n  \n  \n  \n  \n  \nWatch for registration and more information in 2Q26. \n 
URL:https://www.aikidoinfredericksburg.org/event/lewis-dequiros-sensei-tai-sai-2027-seminar/
LOCATION:AIKIDO IN FREDERICKSBURG\, 6155 Hickory Ridge Road\, Spotsylvania\, VA\, 22551\, United States
CATEGORIES:Event,Seminar
END:VEVENT
END:VCALENDAR